BEGIN:VCALENDAR
VERSION:2.0
PRODID:-//wp-events-plugin.com//7.2.3.1//EN
TZID:Europe/Paris
X-WR-TIMEZONE:Europe/Paris
BEGIN:VEVENT
UID:165@agribiodrome.fr
DTSTART;TZID=Europe/Paris:20230221T090000
DTEND;TZID=Europe/Paris:20230221T153000
DTSTAMP:20230216T133215Z
URL:https://agribiodrome.fr/evenements/desherbage-mecanique-des-grandes-cu
 ltures/
SUMMARY:Désherbage mécanique des grandes cultures
DESCRIPTION:OBJECTIFS\n\n 	Comprendre les techniques de désherbage mécani
 que adaptées à chaque stade de développement de la culture et des adven
 tices\n 	Garantir une performance technique et économique de la culture d
 ans son système de production\n 	Savoir régler et conduire des outils de
  désherbage des grandes cultures\n 	Investir dans des outils de désherba
 ge mécanique adaptés à ma ferme\n\nPUBLIC CIBLEProducteurs avec des gra
 ndes cultures \n\nPRÉREQUISAucun\n\nCONTENU DE LA FORMATIONUn module en l
 igne de 4h à parcourir pendant le mois précédent la journée de formati
 on avec l'intégralité des connaissances à acquérir pour maîtriser le 
 désherbage mécanique : résultats à attendre\, conditions de mise en œ
 uvre\, caractéristiques\, des réglages\, choix d'investissement \n\nUne 
 journée de 7h\, le mardi 21 février\, pour répondre aux questions sur l
 e module\,  élargir aux autres cultures :\n\n 	une matinée en salle\, de
  9h à 12h30 dans la mairie de Bren (1\, place de la Forge 26260 Bren).  
 Ce temps permettra de répondre aux questions sur le cours en ligne\, d'é
 changer des expériences entre participants et de parler investissements. 
 \n 	L'après-midi sera consacrée à une visite de matériel sur la ferme 
 de Roger CATIL\, 145 chemin du grand marais 26240 Saint-Barthélémy-de-Va
 ls de 13h30 à 15h. Afin de mettre en situation : réglages des outils\, i
 ntervention en fonction du seuil d'adventices\, parc matériel à prévoir
 ... \n\n\nNOM ET COORDONNÉES DU RESPONSABLE DE LA FORMATIONSamuel L'Orphe
 lin\, chargé de mission Grandes cultures à Agribiodrôme\, slorphelin@ag
 ribiodrome.fr\, 06 31 69 98 25.\n\nINTERVENANT EXTÉRIEURDavid Roy\, respo
 nsable du pôle ressources techniques à Agrobio35\, technicien spécialis
 é en désherbage mécanique\n\nLIEU\n\nDrôme des Collines
ATTACH;FMTTYPE=image/jpeg:https://agribiodrome.fr/wp-content/uploads/2020/
 03/petites-annonces-e1603120770823.png
CATEGORIES:Formations AB26
END:VEVENT
BEGIN:VTIMEZONE
TZID:Europe/Paris
X-LIC-LOCATION:Europe/Paris
BEGIN:STANDARD
DTSTART:20221030T020000
TZOFFSETFROM:+0200
TZOFFSETTO:+0100
TZNAME:CET
END:STANDARD
END:VTIMEZONE
END:VCALENDAR