BEGIN:VCALENDAR
VERSION:2.0
PRODID:-//wp-events-plugin.com//7.2.3.1//EN
TZID:Europe/Paris
X-WR-TIMEZONE:Europe/Paris
BEGIN:VEVENT
UID:102@agribiodrome.fr
DTSTART;TZID=Europe/Paris:20220315T090000
DTEND;TZID=Europe/Paris:20220316T173000
DTSTAMP:20220201T103813Z
URL:https://agribiodrome.fr/evenements/formation-conduite-du-verger-en-arb
 oriculture-biologique/
SUMMARY:Formation : Conduite du verger en arboriculture biologique
DESCRIPTION:Objectifs : Savoir conduire son verger en agriculture biologiqu
 e\n\nPublic visé : Arboriculteurs et porteurs de projet de plantation de 
 vergers\n\nProgramme :\n\nJour 1 = Fertilisation (composts\, amendements e
 t engrais utilisables en AB) et Alternatives au désherbage chimique (dés
 herbage mécanique et thermique\, plantes hôtes\, haies et bandes florale
 s).\n\nJour 2 = Protection du verger biologique : maladies et ravageurs re
 ncontrés en vergers bios\, relations vigueur/fertilisation/parasitisme\, 
 matières actives utilisables en AB\, piégeage\, confusion sexuelle\, phy
 tothérapie végétale (purins\, décoctions\, huiles essentielles...)\, i
 sothérapie et argile.\n\nIntervenant : Jean-Luc Petit\, consultant en agr
 iculture biologique et biodynamique\n\nLieu : Drôme - Lieu précis à dé
 finir ultérieurement\n\nDurée et dates : 2 jours (14h) - les 15 et 16 ma
 rs 2022
ATTACH;FMTTYPE=image/jpeg:https://agribiodrome.fr/wp-content/uploads/2020/
 03/petites-annonces-e1603120770823.png
CATEGORIES:Formations AB26
END:VEVENT
BEGIN:VTIMEZONE
TZID:Europe/Paris
X-LIC-LOCATION:Europe/Paris
BEGIN:STANDARD
DTSTART:20211031T020000
TZOFFSETFROM:+0200
TZOFFSETTO:+0100
TZNAME:CET
END:STANDARD
END:VTIMEZONE
END:VCALENDAR